BEGIN:VCALENDAR
VERSION:2.0
PRODID:-//jEvents 2.0 for Joomla//EN
CALSCALE:GREGORIAN
METHOD:PUBLISH
BEGIN:VEVENT
UID:5ns2uifj6lpcc2g531s07l4vip@google.com
CATEGORIES:Gemeindehaus
CREATED:20230911T073349
SUMMARY:Geburtstagsfeier 452490
DESCRIPTION:
DTSTAMP:20260426T021726
DTSTART;VALUE=DATE:20250809
DTEND;VALUE=DATE:20250810
SEQUENCE:0
TRANSP:OPAQUE
END:VEVENT
END:VCALENDAR