BEGIN:VCALENDAR
VERSION:2.0
PRODID:-//jEvents 2.0 for Joomla//EN
CALSCALE:GREGORIAN
METHOD:PUBLISH
BEGIN:VEVENT
UID:5e347fbpe3fa9f2gfq7cfahhc7@google.com
CATEGORIES:Gemeindehaus
CREATED:20240118T081926
SUMMARY:Geburtstag 452488
DESCRIPTION:
DTSTAMP:20260426T022853
DTSTART;VALUE=DATE:20250517
DTEND;VALUE=DATE:20250518
SEQUENCE:0
TRANSP:OPAQUE
END:VEVENT
END:VCALENDAR