BEGIN:VCALENDAR
VERSION:2.0
PRODID:-//jEvents 2.0 for Joomla//EN
CALSCALE:GREGORIAN
METHOD:PUBLISH
BEGIN:VEVENT
UID:726lov4pcvkdqmaj6nb5e47g66@google.com
CATEGORIES:Gemeindehaus
CREATED:20240118T081927
SUMMARY:Hochzeitsfeier 483187
DESCRIPTION:
DTSTAMP:20260426T021711
DTSTART;VALUE=DATE:20250719
DTEND;VALUE=DATE:20250720
SEQUENCE:0
TRANSP:OPAQUE
END:VEVENT
END:VCALENDAR