BEGIN:VCALENDAR
VERSION:2.0
PRODID:-//jEvents 2.0 for Joomla//EN
CALSCALE:GREGORIAN
METHOD:PUBLISH
BEGIN:VEVENT
UID:a99973a2b14b6e88cd3acf8912c1069b
CATEGORIES:Schutzhütte
CREATED:20250107T111402
SUMMARY:Wanderung SchokoLädchen 559507
DESCRIPTION:
DTSTAMP:20260426T022836
DTSTART;VALUE=DATE:20250118
DTEND;VALUE=DATE:20250119
SEQUENCE:0
TRANSP:OPAQUE
END:VEVENT
END:VCALENDAR