BEGIN:VCALENDAR
VERSION:2.0
PRODID:-//jEvents 2.0 for Joomla//EN
CALSCALE:GREGORIAN
METHOD:PUBLISH
BEGIN:VEVENT
UID:2a83422a5dee723a89bce96b932ed5a5
CATEGORIES:Schutzhütte
CREATED:20250224T102806
SUMMARY:Kindergeburtstagsfeier 576009
DESCRIPTION:
DTSTAMP:20260426T051441
DTSTART;VALUE=DATE:20250308
DTEND;VALUE=DATE:20250309
SEQUENCE:0
TRANSP:OPAQUE
END:VEVENT
END:VCALENDAR