BEGIN:VCALENDAR
VERSION:2.0
PRODID:-//jEvents 2.0 for Joomla//EN
CALSCALE:GREGORIAN
METHOD:PUBLISH
BEGIN:VEVENT
UID:7bcb8d811e54b943b7978a53da49d45f
CATEGORIES:Schutzhütte
CREATED:20250312T185420
SUMMARY:Kindergeburtstagsfeier 580766
DESCRIPTION:
DTSTAMP:20260426T010010
DTSTART;VALUE=DATE:20250417
DTEND;VALUE=DATE:20250418
SEQUENCE:0
TRANSP:OPAQUE
END:VEVENT
END:VCALENDAR