BEGIN:VCALENDAR
VERSION:2.0
PRODID:-//jEvents 2.0 for Joomla//EN
CALSCALE:GREGORIAN
METHOD:PUBLISH
BEGIN:VEVENT
UID:e4c8dd6484e697132ed51926ace672af
CATEGORIES:Schutzhütte
CREATED:20260108T171233
SUMMARY:BELEGT!
DESCRIPTION:
DTSTAMP:20260425T144852
DTSTART;VALUE=DATE:20260116
DTEND;VALUE=DATE:20260119
SEQUENCE:0
TRANSP:OPAQUE
END:VEVENT
END:VCALENDAR