BEGIN:VCALENDAR
VERSION:2.0
PRODID:-//jEvents 2.0 for Joomla//EN
CALSCALE:GREGORIAN
METHOD:PUBLISH
BEGIN:VEVENT
UID:d56d46313cb401d09a4bfe17759305b0
CATEGORIES:Gemeindehaus
CREATED:20260109T103144
SUMMARY:BELEGT!
DESCRIPTION:
DTSTAMP:20260425T144856
DTSTART;VALUE=DATE:20260131
DTEND;VALUE=DATE:20260202
SEQUENCE:0
TRANSP:OPAQUE
END:VEVENT
END:VCALENDAR