BEGIN:VCALENDAR
VERSION:2.0
PRODID:-//jEvents 2.0 for Joomla//EN
CALSCALE:GREGORIAN
METHOD:PUBLISH
BEGIN:VEVENT
UID:7040fdcf116127383e58e7564c9e020f
CATEGORIES:Schutzhütte
CREATED:20260109T112808
SUMMARY:BELEGT!
DESCRIPTION:
DTSTAMP:20260425T145026
DTSTART;VALUE=DATE:20260430
DTEND;VALUE=DATE:20260501
SEQUENCE:0
TRANSP:OPAQUE
END:VEVENT
END:VCALENDAR