BEGIN:VCALENDAR
VERSION:2.0
PRODID:-//jEvents 2.0 for Joomla//EN
CALSCALE:GREGORIAN
METHOD:PUBLISH
BEGIN:VEVENT
UID:8278ca31d873bc316c15942e7c2a28a0
CATEGORIES:Gemeindehaus
CREATED:20260109T120318
SUMMARY:BELEGT!
DESCRIPTION:
DTSTAMP:20260425T144901
DTSTART;VALUE=DATE:20260411
DTEND;VALUE=DATE:20260413
SEQUENCE:0
TRANSP:OPAQUE
END:VEVENT
END:VCALENDAR