BEGIN:VCALENDAR
VERSION:2.0
PRODID:-//jEvents 2.0 for Joomla//EN
CALSCALE:GREGORIAN
METHOD:PUBLISH
BEGIN:VEVENT
UID:4a9e849e14a201b0d2e7aaf5a51bb6ef
CATEGORIES:Schutzhütte
CREATED:20260109T124513
SUMMARY:BELEGT!
DESCRIPTION:
DTSTAMP:20260426T033035
DTSTART;VALUE=DATE:20260829
DTEND;VALUE=DATE:20260831
SEQUENCE:0
TRANSP:OPAQUE
END:VEVENT
END:VCALENDAR