BEGIN:VCALENDAR
VERSION:2.0
PRODID:-//jEvents 2.0 for Joomla//EN
CALSCALE:GREGORIAN
METHOD:PUBLISH
BEGIN:VEVENT
UID:2b5f7db5d8bf65d384cacd2177ca28e9
CATEGORIES:Schutzhütte
CREATED:20260109T125015
SUMMARY:BELEGT!
DESCRIPTION:
DTSTAMP:20260426T025035
DTSTART;VALUE=DATE:20261010
DTEND;VALUE=DATE:20261012
SEQUENCE:0
TRANSP:OPAQUE
END:VEVENT
END:VCALENDAR