BEGIN:VCALENDAR
VERSION:2.0
PRODID:-//jEvents 2.0 for Joomla//EN
CALSCALE:GREGORIAN
METHOD:PUBLISH
BEGIN:VEVENT
UID:f6a8a7377085ef09257e462cd295387b
CATEGORIES:Gemeindehaus
CREATED:20260109T160605
SUMMARY:BELEGT!
DESCRIPTION:
DTSTAMP:20260425T144916
DTSTART;VALUE=DATE:20260207
DTEND;VALUE=DATE:20260209
SEQUENCE:0
TRANSP:OPAQUE
END:VEVENT
END:VCALENDAR