BEGIN:VCALENDAR
VERSION:2.0
PRODID:-//jEvents 2.0 for Joomla//EN
CALSCALE:GREGORIAN
METHOD:PUBLISH
BEGIN:VEVENT
UID:f43727663e5abb96f4aadb171b278aab
CATEGORIES:Schutzhütte
CREATED:20260109T161533
SUMMARY:BELEGT!
DESCRIPTION:
DTSTAMP:20260425T152541
DTSTART;VALUE=DATE:20260524
DTEND;VALUE=DATE:20260525
SEQUENCE:0
TRANSP:OPAQUE
END:VEVENT
END:VCALENDAR