BEGIN:VCALENDAR
VERSION:2.0
PRODID:-//jEvents 2.0 for Joomla//EN
CALSCALE:GREGORIAN
METHOD:PUBLISH
BEGIN:VEVENT
UID:5bebeadc368be41992a96dce6a47befa
CATEGORIES:Schutzhütte
CREATED:20260112T183935
SUMMARY:BELEGT!
DESCRIPTION:
DTSTAMP:20260425T173844
DTSTART;VALUE=DATE:20261231
DTEND;VALUE=DATE:20270102
SEQUENCE:0
TRANSP:OPAQUE
END:VEVENT
END:VCALENDAR