BEGIN:VCALENDAR
VERSION:2.0
PRODID:-//jEvents 2.0 for Joomla//EN
CALSCALE:GREGORIAN
METHOD:PUBLISH
BEGIN:VEVENT
UID:af14872caa708214a130efe892ee9fc7
CATEGORIES:Gemeindehaus
CREATED:20260112T184423
SUMMARY:BELEGT!
DESCRIPTION:
DTSTAMP:20260425T234550
DTSTART;VALUE=DATE:20261120
DTEND;VALUE=DATE:20261122
SEQUENCE:0
TRANSP:OPAQUE
END:VEVENT
END:VCALENDAR