BEGIN:VCALENDAR
VERSION:2.0
PRODID:-//jEvents 2.0 for Joomla//EN
CALSCALE:GREGORIAN
METHOD:PUBLISH
BEGIN:VEVENT
UID:673ddce06edbf2c6e2b871a926072638
CATEGORIES:Schutzhütte
CREATED:20260112T185050
SUMMARY:BELEGT!
DESCRIPTION:
DTSTAMP:20260426T011528
DTSTART;VALUE=DATE:20261110
DTEND;VALUE=DATE:20261112
SEQUENCE:0
TRANSP:OPAQUE
END:VEVENT
END:VCALENDAR