BEGIN:VCALENDAR
VERSION:2.0
PRODID:-//jEvents 2.0 for Joomla//EN
CALSCALE:GREGORIAN
METHOD:PUBLISH
BEGIN:VEVENT
UID:e060ebbbee241d94e33e88c2b72d612e
CATEGORIES:Gemeindehaus
CREATED:20260112T185308
SUMMARY:BELEGT!
DESCRIPTION:
DTSTAMP:20260425T234600
DTSTART;VALUE=DATE:20260321
DTEND;VALUE=DATE:20260323
SEQUENCE:0
TRANSP:OPAQUE
END:VEVENT
END:VCALENDAR