BEGIN:VCALENDAR
VERSION:2.0
PRODID:-//jEvents 2.0 for Joomla//EN
CALSCALE:GREGORIAN
METHOD:PUBLISH
BEGIN:VEVENT
UID:91a2046e6a26f1efe3f62147084f33a6
CATEGORIES:Gemeindehaus
CREATED:20260114T190858
SUMMARY:BELEGT!
DESCRIPTION:
DTSTAMP:20260426T025927
DTSTART;VALUE=DATE:20260815
DTEND;VALUE=DATE:20260817
SEQUENCE:0
TRANSP:OPAQUE
END:VEVENT
END:VCALENDAR