BEGIN:VCALENDAR
VERSION:2.0
PRODID:-//jEvents 2.0 for Joomla//EN
CALSCALE:GREGORIAN
METHOD:PUBLISH
BEGIN:VEVENT
UID:287e21e8339c035ca23b81b21842669f
CATEGORIES:Gemeindehaus
CREATED:20260120T191222
SUMMARY:BELEGT!
DESCRIPTION:
DTSTAMP:20260425T190650
DTSTART;VALUE=DATE:20260611
DTEND;VALUE=DATE:20260616
SEQUENCE:0
TRANSP:OPAQUE
END:VEVENT
END:VCALENDAR