BEGIN:VCALENDAR
VERSION:2.0
PRODID:-//jEvents 2.0 for Joomla//EN
CALSCALE:GREGORIAN
METHOD:PUBLISH
BEGIN:VEVENT
UID:d9074bd3c9ac96f06df7a8fae1a11d71
CATEGORIES:Gemeindehaus
CREATED:20260120T193333
SUMMARY:BELEGT!
DESCRIPTION:
DTSTAMP:20260425T193157
DTSTART;VALUE=DATE:20260314
DTEND;VALUE=DATE:20260316
SEQUENCE:0
TRANSP:OPAQUE
END:VEVENT
END:VCALENDAR