BEGIN:VCALENDAR
VERSION:2.0
PRODID:-//jEvents 2.0 for Joomla//EN
CALSCALE:GREGORIAN
METHOD:PUBLISH
BEGIN:VEVENT
UID:266ef0b5196c38a849e6ced064618383
CATEGORIES:Schutzhütte
CREATED:20260219T173204
SUMMARY:BELEGT!
DESCRIPTION:
DTSTAMP:20260426T021126
DTSTART;VALUE=DATE:20260718
DTEND;VALUE=DATE:20260720
SEQUENCE:0
TRANSP:OPAQUE
END:VEVENT
END:VCALENDAR