BEGIN:VCALENDAR
VERSION:2.0
PRODID:-//jEvents 2.0 for Joomla//EN
CALSCALE:GREGORIAN
METHOD:PUBLISH
BEGIN:VEVENT
UID:2b1626400de346cf89e9f938e18c046f
CATEGORIES:Gemeindehaus
CREATED:20260219T174617
SUMMARY:BELEGT!
DESCRIPTION:
DTSTAMP:20260425T133240
DTSTART;VALUE=DATE:20260304
DTEND;VALUE=DATE:20260305
SEQUENCE:0
TRANSP:OPAQUE
END:VEVENT
END:VCALENDAR