BEGIN:VCALENDAR
VERSION:2.0
PRODID:-//jEvents 2.0 for Joomla//EN
CALSCALE:GREGORIAN
METHOD:PUBLISH
BEGIN:VEVENT
UID:f365fe0503469f5e82a394fa98981679
CATEGORIES:Gemeindehaus
CREATED:20260219T174729
SUMMARY:13. OGR-Sitzung 18:30 Uhr
DESCRIPTION:
DTSTAMP:20260425T133241
DTSTART;VALUE=DATE:20260303
DTEND;VALUE=DATE:20260304
SEQUENCE:0
TRANSP:OPAQUE
END:VEVENT
END:VCALENDAR