BEGIN:VCALENDAR
VERSION:2.0
PRODID:-//jEvents 2.0 for Joomla//EN
CALSCALE:GREGORIAN
METHOD:PUBLISH
BEGIN:VEVENT
UID:9f48bcda48feae0c999f26ad3fed1091
CATEGORIES:Gemeindehaus
CREATED:20260219T194943
SUMMARY:BELEGT!
DESCRIPTION:
DTSTAMP:20260425T213648
DTSTART;VALUE=DATE:20261002
DTEND;VALUE=DATE:20261004
SEQUENCE:0
TRANSP:OPAQUE
END:VEVENT
END:VCALENDAR