BEGIN:VCALENDAR
VERSION:2.0
PRODID:-//jEvents 2.0 for Joomla//EN
CALSCALE:GREGORIAN
METHOD:PUBLISH
BEGIN:VEVENT
UID:ca76dc7e585f67a9996d7937017aa364
CATEGORIES:Gemeindehaus
CREATED:20260302T182428
SUMMARY:Hl. Messe 18:00 Uhr
DESCRIPTION:
DTSTAMP:20260425T113241
DTSTART:20260302T150000
DTEND:20260302T190000
SEQUENCE:0
TRANSP:OPAQUE
END:VEVENT
END:VCALENDAR