BEGIN:VCALENDAR
VERSION:2.0
PRODID:-//jEvents 2.0 for Joomla//EN
CALSCALE:GREGORIAN
METHOD:PUBLISH
BEGIN:VEVENT
UID:e6d94bd96019304fc4003071f20ace5b
CATEGORIES:Gemeindehaus
CREATED:20260310T185933
SUMMARY:BELEGT!
DESCRIPTION:
DTSTAMP:20260425T143307
DTSTART;VALUE=DATE:20260404
DTEND;VALUE=DATE:20260405
SEQUENCE:0
TRANSP:OPAQUE
END:VEVENT
END:VCALENDAR