BEGIN:VCALENDAR
VERSION:2.0
PRODID:-//jEvents 2.0 for Joomla//EN
CALSCALE:GREGORIAN
METHOD:PUBLISH
BEGIN:VEVENT
UID:1bc0945ed4cb6abce8eed9c6a344e2fa
CATEGORIES:Schutzhütte
CREATED:20260328T145924
SUMMARY:BELEGT!
DESCRIPTION:
DTSTAMP:20260425T123256
DTSTART:20260419T060000
DTEND:20260419T180000
SEQUENCE:0
TRANSP:OPAQUE
END:VEVENT
END:VCALENDAR