BEGIN:VCALENDAR
VERSION:2.0
PRODID:-//jEvents 2.0 for Joomla//EN
CALSCALE:GREGORIAN
METHOD:PUBLISH
BEGIN:VEVENT
UID:6a712b1fa3847ff8d1066d500eb0f003
CATEGORIES:Schutzhütte
CREATED:20260413T152316
SUMMARY:BELEGT!
DESCRIPTION:
DTSTAMP:20260425T133242
DTSTART;VALUE=DATE:20260509
DTEND;VALUE=DATE:20260510
SEQUENCE:0
TRANSP:OPAQUE
END:VEVENT
END:VCALENDAR