BEGIN:VCALENDAR
VERSION:2.0
PRODID:-//jEvents 2.0 for Joomla//EN
CALSCALE:GREGORIAN
METHOD:PUBLISH
BEGIN:VEVENT
UID:a1e508b2fab15d048232499049a81c0b
CATEGORIES:Schutzhütte
CREATED:20260420T175732
SUMMARY:BELEGT!
DESCRIPTION:
DTSTAMP:20260426T045243
DTSTART;VALUE=DATE:20260613
DTEND;VALUE=DATE:20260615
SEQUENCE:0
TRANSP:OPAQUE
END:VEVENT
END:VCALENDAR